BEGIN:VCALENDAR
VERSION:2.0
PRODID:-//Cayman Islands National Party - ECPv6.14.2//NONSGML v1.0//EN
CALSCALE:GREGORIAN
METHOD:PUBLISH
X-ORIGINAL-URL:https://nationalparty.ky
X-WR-CALDESC:Events for Cayman Islands National Party
REFRESH-INTERVAL;VALUE=DURATION:PT1H
X-Robots-Tag:noindex
X-PUBLISHED-TTL:PT1H
BEGIN:VTIMEZONE
TZID:America/New_York
BEGIN:DAYLIGHT
TZOFFSETFROM:-0500
TZOFFSETTO:-0400
TZNAME:EDT
DTSTART:20250309T070000
END:DAYLIGHT
BEGIN:STANDARD
TZOFFSETFROM:-0400
TZOFFSETTO:-0500
TZNAME:EST
DTSTART:20251102T060000
END:STANDARD
END:VTIMEZONE
BEGIN:VEVENT
DTSTART;TZID=America/New_York:20250423T190000
DTEND;TZID=America/New_York:20250423T190000
DTSTAMP:20260423T033258
CREATED:20250306T083011Z
LAST-MODIFIED:20250317T201444Z
UID:10000031-1745434800-1745434800@nationalparty.ky
SUMMARY:Public Meeting
DESCRIPTION:Little Cayman | Nickolas DaCosta
URL:https://nationalparty.ky/event/public-meeting-13/
LOCATION:Little Cayman
CATEGORIES:Cayman Brac West & Little Cayman
ATTACH;FMTTYPE=image/jpeg:https://nationalparty.ky/wp-content/uploads/2025/01/Nickolas-DaCosta-web-1.jpg
END:VEVENT
END:VCALENDAR